{
 "maxImageWidth": 4096,
 "maxRecordCount": 1000,
 "tileInfo": {
  "lods": [
   {
    "level": 0,
    "scale": 295828763.79577702,
    "resolution": 78271.516963999937
   },
   {
    "level": 1,
    "scale": 147914381.89788899,
    "resolution": 39135.758482000092
   },
   {
    "level": 2,
    "scale": 73957190.948944002,
    "resolution": 19567.879240999919
   },
   {
    "level": 3,
    "scale": 36978595.474472001,
    "resolution": 9783.9396204999593
   },
   {
    "level": 4,
    "scale": 18489297.737236001,
    "resolution": 4891.9698102499797
   },
   {
    "level": 5,
    "scale": 9244648.8686180003,
    "resolution": 2445.9849051249898
   },
   {
    "level": 6,
    "scale": 4622324.4343090001,
    "resolution": 1222.9924525624949
   },
   {
    "level": 7,
    "scale": 2311162.2171550002,
    "resolution": 611.49622628137968
   },
   {
    "level": 8,
    "scale": 1155581.108577,
    "resolution": 305.74811314055756
   },
   {
    "level": 9,
    "scale": 577790.55428899999,
    "resolution": 152.87405657041106
   },
   {
    "level": 10,
    "scale": 288895.27714399999,
    "resolution": 76.437028285073239
   },
   {
    "level": 11,
    "scale": 144447.638572,
    "resolution": 38.21851414253662
   },
   {
    "level": 12,
    "scale": 72223.819285999998,
    "resolution": 19.10925707126831
   },
   {
    "level": 13,
    "scale": 36111.909642999999,
    "resolution": 9.5546285356341549
   },
   {
    "level": 14,
    "scale": 18055.954822,
    "resolution": 4.7773142679493699
   },
   {
    "level": 15,
    "scale": 9027.9774109999998,
    "resolution": 2.3886571339746849
   },
   {
    "level": 16,
    "scale": 4513.9887049999998,
    "resolution": 1.1943285668550503
   },
   {
    "level": 17,
    "scale": 2256.994353,
    "resolution": 0.59716428355981721
   },
   {
    "level": 18,
    "scale": 1128.4971760000001,
    "resolution": 0.29858214164761665
   }
  ],
  "origin": {
   "x": -20037508.342787001,
   "y": 20037508.342787001
  },
  "format": "PNG",
  "compressionQuality": 0,
  "rows": 256,
  "dpi": 96,
  "spatialReference": {
   "falseM": -100000,
   "xyTolerance": 0.001,
   "mUnits": 10000,
   "zUnits": 10000,
   "latestWkid": 3857,
   "zTolerance": 0.001,
   "wkid": 102100,
   "xyUnits": 10000,
   "mTolerance": 0.001,
   "falseX": -20037700,
   "falseY": -30241100,
   "falseZ": -100000
  },
  "cols": 256
 },
 "datesInUnknownTimezone": false,
 "supportsQueryDomains": true,
 "maxSelectionCount": 2000,
 "supportedImageFormatTypes": "PNG32,PNG24,PNG,JPG,DIB,TIFF,EMF,PS,PDF,GIF,SVG,SVGZ,BMP",
 "maxImageHeight": 4096,
 "tables": [],
 "cimVersion": "3.7.0",
 "layers": [
  {
   "subLayerIds": null,
   "maxScale": 0,
   "name": "Manage Map Server Cache Tiles Update Extent",
   "defaultVisibility": false,
   "id": 5039,
   "minScale": 0,
   "supportsDynamicLegends": true,
   "type": "Feature Layer",
   "parentLayerId": -1,
   "geometryType": "esriGeometryPolygon"
  },
  {
   "subLayerIds": null,
   "maxScale": 0,
   "name": "JUR_VICINITY",
   "defaultVisibility": true,
   "id": 5038,
   "minScale": 0,
   "supportsDynamicLegends": true,
   "type": "Feature Layer",
   "parentLayerId": -1,
   "geometryType": "esriGeometryPolygon"
  },
  {
   "subLayerIds": null,
   "maxScale": 36111.909642999999,
   "name": "Municipality Boundary",
   "defaultVisibility": true,
   "id": 5016,
   "minScale": 1155581.108577,
   "supportsDynamicLegends": true,
   "type": "Feature Layer",
   "parentLayerId": -1,
   "geometryType": "esriGeometryPolygon"
  },
  {
   "subLayerIds": null,
   "maxScale": 9027.9774109999998,
   "name": "CMTY_P label",
   "defaultVisibility": true,
   "id": 116,
   "minScale": 144447.638572,
   "supportsDynamicLegends": true,
   "type": "Feature Layer",
   "parentLayerId": -1,
   "geometryType": "esriGeometryMultipoint"
  },
  {
   "subLayerIds": null,
   "maxScale": 4513.9887049999998,
   "name": "CMTY_PLAN_CN",
   "defaultVisibility": true,
   "id": 150,
   "minScale": 9027.9774109999998,
   "supportsDynamicLegends": true,
   "type": "Feature Layer",
   "parentLayerId": -1,
   "geometryType": "esriGeometryPolygon"
  },
  {
   "subLayerIds": null,
   "maxScale": 4513.9887049999998,
   "name": "CMTY_PLAN_SD",
   "defaultVisibility": true,
   "id": 151,
   "minScale": 9027.9774109999998,
   "supportsDynamicLegends": true,
   "type": "Feature Layer",
   "parentLayerId": -1,
   "geometryType": "esriGeometryPolygon"
  },
  {
   "subLayerIds": null,
   "maxScale": 0,
   "name": "PLACES = Beach Labels",
   "defaultVisibility": true,
   "id": 5034,
   "minScale": 0,
   "supportsDynamicLegends": true,
   "type": "Feature Layer",
   "parentLayerId": -1,
   "geometryType": "esriGeometryPoint"
  },
  {
   "subLayerIds": null,
   "maxScale": 0,
   "name": "PLACES=Petco Park or SDCCU Label",
   "defaultVisibility": true,
   "id": 404,
   "minScale": 0,
   "supportsDynamicLegends": true,
   "type": "Feature Layer",
   "parentLayerId": -1,
   "geometryType": "esriGeometryPoint"
  },
  {
   "subLayerIds": null,
   "maxScale": 0,
   "name": "SCHOOL_labels",
   "defaultVisibility": true,
   "id": 5033,
   "minScale": 0,
   "supportsDynamicLegends": true,
   "type": "Feature Layer",
   "parentLayerId": -1,
   "geometryType": "esriGeometryPoint"
  },
  {
   "subLayerIds": null,
   "maxScale": 0,
   "name": "PLACES_CASINOS",
   "defaultVisibility": true,
   "id": 275,
   "minScale": 18055.954822,
   "supportsDynamicLegends": true,
   "type": "Feature Layer",
   "parentLayerId": -1,
   "geometryType": "esriGeometryPoint"
  },
  {
   "subLayerIds": null,
   "maxScale": 0,
   "name": "REC_CENTER_CN",
   "defaultVisibility": true,
   "id": 276,
   "minScale": 0,
   "supportsDynamicLegends": true,
   "type": "Feature Layer",
   "parentLayerId": -1,
   "geometryType": "esriGeometryPoint"
  },
  {
   "subLayerIds": null,
   "maxScale": 0,
   "name": "REC_CENTER_SD",
   "defaultVisibility": true,
   "id": 277,
   "minScale": 0,
   "supportsDynamicLegends": true,
   "type": "Feature Layer",
   "parentLayerId": -1,
   "geometryType": "esriGeometryPoint"
  },
  {
   "subLayerIds": null,
   "maxScale": 0,
   "name": "PLACES =College Labels ",
   "defaultVisibility": true,
   "id": 288,
   "minScale": 0,
   "supportsDynamicLegends": true,
   "type": "Feature Layer",
   "parentLayerId": -1,
   "geometryType": "esriGeometryPoint"
  },
  {
   "subLayerIds": null,
   "maxScale": 0,
   "name": "Mountain",
   "defaultVisibility": true,
   "id": 278,
   "minScale": 18055.954822,
   "supportsDynamicLegends": true,
   "type": "Feature Layer",
   "parentLayerId": -1,
   "geometryType": "esriGeometryPoint"
  },
  {
   "subLayerIds": null,
   "maxScale": 0,
   "name": "PLACES = Shopping Center Labels",
   "defaultVisibility": true,
   "id": 287,
   "minScale": 0,
   "supportsDynamicLegends": true,
   "type": "Feature Layer",
   "parentLayerId": -1,
   "geometryType": "esriGeometryPoint"
  },
  {
   "subLayerIds": null,
   "maxScale": 0,
   "name": "PLACES = Jail, Library & PO Labels ",
   "defaultVisibility": true,
   "id": 286,
   "minScale": 0,
   "supportsDynamicLegends": true,
   "type": "Feature Layer",
   "parentLayerId": -1,
   "geometryType": "esriGeometryPoint"
  },
  {
   "subLayerIds": null,
   "maxScale": 0,
   "name": "PLACES = AmusmtPk, Historic Site,Museum, Zoo",
   "defaultVisibility": true,
   "id": 284,
   "minScale": 18055.954822,
   "supportsDynamicLegends": true,
   "type": "Feature Layer",
   "parentLayerId": -1,
   "geometryType": "esriGeometryPoint"
  },
  {
   "subLayerIds": null,
   "maxScale": 0,
   "name": "PLACES = Police Station",
   "defaultVisibility": true,
   "id": 285,
   "minScale": 18055.954822,
   "supportsDynamicLegends": true,
   "type": "Feature Layer",
   "parentLayerId": -1,
   "geometryType": "esriGeometryPoint"
  },
  {
   "subLayerIds": null,
   "maxScale": 0,
   "name": "PLACES = Hospital",
   "defaultVisibility": true,
   "id": 279,
   "minScale": 144447.638572,
   "supportsDynamicLegends": true,
   "type": "Feature Layer",
   "parentLayerId": -1,
   "geometryType": "esriGeometryPoint"
  },
  {
   "subLayerIds": null,
   "maxScale": 0,
   "name": "PORTS_OF_ENTRY_CA",
   "defaultVisibility": true,
   "id": 280,
   "minScale": 18055.954822,
   "supportsDynamicLegends": true,
   "type": "Feature Layer",
   "parentLayerId": -1,
   "geometryType": "esriGeometryPoint"
  },
  {
   "subLayerIds": null,
   "maxScale": 0,
   "name": "Places = Transit Center",
   "defaultVisibility": true,
   "id": 281,
   "minScale": 18055.954822,
   "supportsDynamicLegends": true,
   "type": "Feature Layer",
   "parentLayerId": -1,
   "geometryType": "esriGeometryPoint"
  },
  {
   "subLayerIds": null,
   "maxScale": 0,
   "name": "FIRE_STATION",
   "defaultVisibility": true,
   "id": 282,
   "minScale": 18055.954822,
   "supportsDynamicLegends": true,
   "type": "Feature Layer",
   "parentLayerId": -1,
   "geometryType": "esriGeometryPoint"
  },
  {
   "subLayerIds": null,
   "maxScale": 0,
   "name": "Rail",
   "defaultVisibility": true,
   "id": 283,
   "minScale": 0,
   "supportsDynamicLegends": true,
   "type": "Feature Layer",
   "parentLayerId": -1,
   "geometryType": "esriGeometryPolyline"
  },
  {
   "subLayerIds": null,
   "maxScale": 0,
   "name": "Road - Address Ranges",
   "defaultVisibility": true,
   "id": 274,
   "minScale": 0,
   "supportsDynamicLegends": true,
   "type": "Feature Layer",
   "parentLayerId": -1,
   "geometryType": "esriGeometryPolyline"
  },
  {
   "subLayerIds": null,
   "maxScale": 0,
   "name": "ROADS_ALL",
   "defaultVisibility": true,
   "id": 0,
   "minScale": 0,
   "supportsDynamicLegends": true,
   "type": "Feature Layer",
   "parentLayerId": -1,
   "geometryType": "esriGeometryPolyline"
  },
  {
   "subLayerIds": null,
   "maxScale": 0,
   "name": "RD_MAJOR_SG=STATE HWY",
   "defaultVisibility": true,
   "id": 5037,
   "minScale": 0,
   "supportsDynamicLegends": true,
   "type": "Feature Layer",
   "parentLayerId": -1,
   "geometryType": "esriGeometryPolyline"
  },
  {
   "subLayerIds": null,
   "maxScale": 0,
   "name": "RD_MAJOR_SG NOT STATE HWY",
   "defaultVisibility": true,
   "id": 310,
   "minScale": 0,
   "supportsDynamicLegends": true,
   "type": "Feature Layer",
   "parentLayerId": -1,
   "geometryType": "esriGeometryPolyline"
  },
  {
   "subLayerIds": null,
   "maxScale": 0,
   "name": "AIR_RUNWAYS",
   "defaultVisibility": true,
   "id": 311,
   "minScale": 288895.27714399999,
   "supportsDynamicLegends": true,
   "type": "Feature Layer",
   "parentLayerId": -1,
   "geometryType": "esriGeometryPolygon"
  },
  {
   "subLayerIds": null,
   "maxScale": 0,
   "name": "HYD_FLOWLINES_CARTO",
   "defaultVisibility": true,
   "id": 312,
   "minScale": 288895.27714399999,
   "supportsDynamicLegends": true,
   "type": "Feature Layer",
   "parentLayerId": -1,
   "geometryType": "esriGeometryPolyline"
  },
  {
   "subLayerIds": null,
   "maxScale": 0,
   "name": "BUILDING_OUTLINES",
   "defaultVisibility": true,
   "id": 5036,
   "minScale": 4513.9887049999998,
   "supportsDynamicLegends": true,
   "type": "Feature Layer",
   "parentLayerId": -1,
   "geometryType": "esriGeometryPolygon"
  },
  {
   "subLayerIds": null,
   "maxScale": 0,
   "name": "LANDUSE=shopping",
   "defaultVisibility": true,
   "id": 313,
   "minScale": 18055.954822,
   "supportsDynamicLegends": true,
   "type": "Feature Layer",
   "parentLayerId": -1,
   "geometryType": "esriGeometryPolygon"
  },
  {
   "subLayerIds": null,
   "maxScale": 0,
   "name": "LANDUSE=Institutional",
   "defaultVisibility": true,
   "id": 314,
   "minScale": 18055.954822,
   "supportsDynamicLegends": true,
   "type": "Feature Layer",
   "parentLayerId": -1,
   "geometryType": "esriGeometryPolygon"
  },
  {
   "subLayerIds": null,
   "maxScale": 0,
   "name": "Landfill",
   "defaultVisibility": true,
   "id": 315,
   "minScale": 72223.819285999998,
   "supportsDynamicLegends": true,
   "type": "Feature Layer",
   "parentLayerId": -1,
   "geometryType": "esriGeometryPolygon"
  },
  {
   "subLayerIds": null,
   "maxScale": 0,
   "name": "Parks - ConstructedLands",
   "defaultVisibility": true,
   "id": 317,
   "minScale": 36111.909642999999,
   "supportsDynamicLegends": true,
   "type": "Feature Layer",
   "parentLayerId": -1,
   "geometryType": "esriGeometryPolygon"
  },
  {
   "subLayerIds": null,
   "maxScale": 0,
   "name": "Constructed Lands",
   "defaultVisibility": true,
   "id": 318,
   "minScale": 72223.819285999998,
   "supportsDynamicLegends": true,
   "type": "Feature Layer",
   "parentLayerId": -1,
   "geometryType": "esriGeometryPolygon"
  },
  {
   "subLayerIds": null,
   "maxScale": 0,
   "name": "HYD_NHDWATERBODY",
   "defaultVisibility": true,
   "id": 319,
   "minScale": 1155581.108577,
   "supportsDynamicLegends": true,
   "type": "Feature Layer",
   "parentLayerId": -1,
   "geometryType": "esriGeometryPolygon"
  },
  {
   "subLayerIds": null,
   "maxScale": 0,
   "name": "HYD_BAY",
   "defaultVisibility": true,
   "id": 5035,
   "minScale": 1155581.108577,
   "supportsDynamicLegends": true,
   "type": "Feature Layer",
   "parentLayerId": -1,
   "geometryType": "esriGeometryPolygon"
  },
  {
   "subLayerIds": null,
   "maxScale": 0,
   "name": "Parks",
   "defaultVisibility": true,
   "id": 320,
   "minScale": 288895.27714399999,
   "supportsDynamicLegends": true,
   "type": "Feature Layer",
   "parentLayerId": -1,
   "geometryType": "esriGeometryPolygon"
  },
  {
   "subLayerIds": null,
   "maxScale": 0,
   "name": "ESMT_OPEN_SPACE",
   "defaultVisibility": true,
   "id": 321,
   "minScale": 144447.638572,
   "supportsDynamicLegends": true,
   "type": "Feature Layer",
   "parentLayerId": -1,
   "geometryType": "esriGeometryPolygon"
  },
  {
   "subLayerIds": null,
   "maxScale": 0,
   "name": "FACILITIES_MILITARY",
   "defaultVisibility": true,
   "id": 323,
   "minScale": 577790.55428899999,
   "supportsDynamicLegends": true,
   "type": "Feature Layer",
   "parentLayerId": -1,
   "geometryType": "esriGeometryPolygon"
  },
  {
   "subLayerIds": null,
   "maxScale": 0,
   "name": "INDIAN_RESERVATIONS",
   "defaultVisibility": true,
   "id": 322,
   "minScale": 288895.27714399999,
   "supportsDynamicLegends": true,
   "type": "Feature Layer",
   "parentLayerId": -1,
   "geometryType": "esriGeometryPolygon"
  },
  {
   "subLayerIds": null,
   "maxScale": 0,
   "name": "NTL_FOREST",
   "defaultVisibility": true,
   "id": 324,
   "minScale": 577790.55428899999,
   "supportsDynamicLegends": true,
   "type": "Feature Layer",
   "parentLayerId": -1,
   "geometryType": "esriGeometryPolygon"
  },
  {
   "subLayerIds": null,
   "maxScale": 0,
   "name": "Municipality Fill",
   "defaultVisibility": true,
   "id": 5017,
   "minScale": 0,
   "supportsDynamicLegends": true,
   "type": "Feature Layer",
   "parentLayerId": -1,
   "geometryType": "esriGeometryPolygon"
  },
  {
   "subLayerIds": null,
   "maxScale": 0,
   "name": "JUR_VICINITY",
   "defaultVisibility": true,
   "id": 325,
   "minScale": 0,
   "supportsDynamicLegends": true,
   "type": "Feature Layer",
   "parentLayerId": -1,
   "geometryType": "esriGeometryPolygon"
  },
  {
   "subLayerIds": null,
   "maxScale": 0,
   "name": "Unincorporated County",
   "defaultVisibility": true,
   "id": 326,
   "minScale": 0,
   "supportsDynamicLegends": true,
   "type": "Feature Layer",
   "parentLayerId": -1,
   "geometryType": "esriGeometryPolygon"
  }
 ],
 "archivingInfo": {
  "supportsHistoricMoment": false
 },
 "spatialReference": {
  "falseM": -100000,
  "xyTolerance": 0.001,
  "mUnits": 10000,
  "zUnits": 10000,
  "latestWkid": 3857,
  "zTolerance": 0.001,
  "wkid": 102100,
  "xyUnits": 10000,
  "mTolerance": 0.001,
  "falseX": -20037700,
  "falseY": -30241100,
  "falseZ": -100000
 },
 "fullExtent": {
  "ymin": 3788662.1269012182,
  "xmin": -13119011.63800182,
  "ymax": 4024271.9640763979,
  "xmax": -12899459.948898442,
  "spatialReference": {
   "cs": "pcs",
   "wkid": 102100
  }
 },
 "currentVersion": 12.1,
 "hasBranchVersionedData": false,
 "maxExportTilesCount": 100000,
 "referenceScale": 0,
 "supportsSpatialFilter": true,
 "maxLOD": 18,
 "initialExtent": {
  "ymin": 3835539.5559094516,
  "xmin": -13178251.296259124,
  "ymax": 3959476.1886990224,
  "xmax": -12859890.529545423,
  "spatialReference": {
   "cs": "pcs",
   "wkid": 102100
  }
 },
 "supportsTimeRelation": true,
 "documentInfo": {
  "Category": "",
  "Keywords": "San Diego County,Basemap",
  "Version": "3.4.0",
  "Comments": "Basemap created by SanGIS using data from City of San Diego, County of San Diego, SANDAG and SanGIS",
  "AntialiasingMode": "Fast",
  "Title": "Map",
  "Author": "",
  "TextAntialiasingMode": "Force",
  "Subject": "Basemap created by SanGIS using data from City of San Diego, County of San Diego, SANDAG and SanGIS"
 },
 "wmtsScaleFactor": 0.00028000000000003521,
 "description": "Basemap created by SanGIS using data from City of San Diego, County of San Diego, SANDAG and SanGIS",
 "units": "esriMeters",
 "supportsClipping": true,
 "exportTilesAllowed": true,
 "hasVersionedData": true,
 "supportsDatumTransformation": true,
 "supportsQueryDataElements": true,
 "mapName": "Basemap",
 "minScale": 591657527.591555,
 "tileImageInfo": {
  "bandCount": 1,
  "lercError": 0,
  "format": "PNG",
  "compressionQuality": 0
 },
 "supportedExtensions": "WMSServer",
 "serviceItemId": "6455425e4a7c4e73be45d192504b6194",
 "capabilities": "Map,Data",
 "supportsDynamicLayers": false,
 "maxScale": 1128.4971760000001,
 "singleFusedMapCache": true,
 "storageInfo": {
  "storageFormat": "esriMapCacheStorageModeCompactV2",
  "packetSize": 128
 },
 "resampling": false,
 "mapUnits": {
  "uwkid": 9001
 },
 "floorAwareMapProperties": {
  "defaultFloorFilterSettings": {
   "isEnabled": false
  }
 },
 "minLOD": 0,
 "supportedQueryFormats": "JSON, geoJSON, PBF",
 "datumTransformations": [
  {
   "geoTransforms": [
    {
     "latestWkid": 108190,
     "transformForward": false,
     "wkid": 108190,
     "name": "WGS_1984_(ITRF00)_To_NAD_1983"
    }
   ]
  },
  {
   "geoTransforms": [
    {
     "latestWkid": 108190,
     "transformForward": true,
     "wkid": 108190,
     "name": "WGS_1984_(ITRF00)_To_NAD_1983"
    }
   ]
  }
 ],
 "serviceDescription": " Basemap created by SanGIS using data from City of San Diego, County of San Diego, SANDAG and SanGIS<\/span><\/p><\/div><\/div><\/div>",
 "copyrightText": "SanGIS"
}
