<?xml version="1.0" encoding="UTF-8" standalone="no"?>
<metadata xml:lang="en">
<Esri>
<CreaDate>20180920</CreaDate>
<CreaTime>12284500</CreaTime>
<ArcGISFormat>1.0</ArcGISFormat>
<SyncOnce>FALSE</SyncOnce>
<DataProperties>
<itemProps>
<itemName Sync="TRUE">Hillshade</itemName>
<nativeExtBox>
<westBL Sync="TRUE">6150079.999876</westBL>
<eastBL Sync="TRUE">6614999.999876</eastBL>
<southBL Sync="TRUE">1761209.999931</southBL>
<northBL Sync="TRUE">2129999.999931</northBL>
<exTypeCode Sync="TRUE">1</exTypeCode>
</nativeExtBox>
<itemLocation>
<linkage Sync="TRUE">file://\\BLACK-10\F$\Regional_DEM_and_Contours\SanDiegoRegionDEM\DEMs.gdb</linkage>
<protocol Sync="TRUE">Local Area Network</protocol>
</itemLocation>
<imsContentType Sync="TRUE" export="False">002</imsContentType>
</itemProps>
<coordRef>
<type Sync="TRUE">Projected</type>
<geogcsn Sync="TRUE">GCS_NAD_1983_2011</geogcsn>
<csUnits Sync="TRUE">Linear Unit: Foot_US (0.304801)</csUnits>
<projcsn Sync="TRUE">NAD_1983_2011_StatePlane_California_VI_FIPS_0406_Ft_US</projcsn>
<peXml Sync="TRUE">&lt;ProjectedCoordinateSystem xsi:type='typens:ProjectedCoordinateSystem' xmlns:xsi='http://www.w3.org/2001/XMLSchema-instance' xmlns:xs='http://www.w3.org/2001/XMLSchema' xmlns:typens='http://www.esri.com/schemas/ArcGIS/10.5'&gt;&lt;WKT&gt;PROJCS[&amp;quot;NAD_1983_2011_StatePlane_California_VI_FIPS_0406_Ft_US&amp;quot;,GEOGCS[&amp;quot;GCS_NAD_1983_2011&amp;quot;,DATUM[&amp;quot;D_NAD_1983_2011&amp;quot;,SPHEROID[&amp;quot;GRS_1980&amp;quot;,6378137.0,298.257222101]],PRIMEM[&amp;quot;Greenwich&amp;quot;,0.0],UNIT[&amp;quot;Degree&amp;quot;,0.0174532925199433]],PROJECTION[&amp;quot;Lambert_Conformal_Conic&amp;quot;],PARAMETER[&amp;quot;False_Easting&amp;quot;,6561666.666666666],PARAMETER[&amp;quot;False_Northing&amp;quot;,1640416.666666667],PARAMETER[&amp;quot;Central_Meridian&amp;quot;,-116.25],PARAMETER[&amp;quot;Standard_Parallel_1&amp;quot;,32.78333333333333],PARAMETER[&amp;quot;Standard_Parallel_2&amp;quot;,33.88333333333333],PARAMETER[&amp;quot;Latitude_Of_Origin&amp;quot;,32.16666666666666],UNIT[&amp;quot;Foot_US&amp;quot;,0.3048006096012192]],VERTCS[&amp;quot;NAVD_1988_Foot_US&amp;quot;,VDATUM[&amp;quot;North_American_Vertical_Datum_1988&amp;quot;],PARAMETER[&amp;quot;Vertical_Shift&amp;quot;,0.0],PARAMETER[&amp;quot;Direction&amp;quot;,1.0],UNIT[&amp;quot;Foot_US&amp;quot;,0.3048006096012192]]&lt;/WKT&gt;&lt;XOrigin&gt;-118608900&lt;/XOrigin&gt;&lt;YOrigin&gt;-91259500&lt;/YOrigin&gt;&lt;XYScale&gt;35979706.307677768&lt;/XYScale&gt;&lt;ZOrigin&gt;-100000&lt;/ZOrigin&gt;&lt;ZScale&gt;10000&lt;/ZScale&gt;&lt;MOrigin&gt;-100000&lt;/MOrigin&gt;&lt;MScale&gt;10000&lt;/MScale&gt;&lt;XYTolerance&gt;0.0032808333333333331&lt;/XYTolerance&gt;&lt;ZTolerance&gt;0.001&lt;/ZTolerance&gt;&lt;MTolerance&gt;0.001&lt;/MTolerance&gt;&lt;HighPrecision&gt;true&lt;/HighPrecision&gt;&lt;WKID&gt;103008&lt;/WKID&gt;&lt;LatestWKID&gt;6426&lt;/LatestWKID&gt;&lt;VCSWKID&gt;105703&lt;/VCSWKID&gt;&lt;LatestVCSWKID&gt;6360&lt;/LatestVCSWKID&gt;&lt;/ProjectedCoordinateSystem&gt;</peXml>
</coordRef>
<lineage>
<Process Date="20250502" Time="121032" ToolSource="c:\program files\arcgis\pro\Resources\ArcToolbox\toolboxes\Data Management Tools.tbx\BuildPyramids">BuildPyramids F:\DEMs.gdb\Hillshade -1 NONE BILINEAR JPEG 75 OVERWRITE</Process>
</lineage>
</DataProperties>
<SyncDate>20180927</SyncDate>
<SyncTime>09014500</SyncTime>
<ModDate>20180927</ModDate>
<ModTime>09014500</ModTime>
<scaleRange>
<minScale>150000000</minScale>
<maxScale>5000</maxScale>
</scaleRange>
<ArcGISProfile>RGDW_Publication</ArcGISProfile>
</Esri>
<mdLang>
<languageCode value="eng"/>
<countryCode Sync="TRUE" value="USA"/>
</mdLang>
<mdChar>
<CharSetCd value="004"/>
</mdChar>
<mdHrLv>
<ScopeCd value="005"/>
</mdHrLv>
<distInfo>
<distributor>
<distorCont>
<rpOrgName>SanGIS</rpOrgName>
<rpCntInfo>
<cntPhone>
<voiceNum>(858) 874-7000</voiceNum>
<faxNum>(858) 874-7002</faxNum>
</cntPhone>
<cntAddress addressType="both">
<delPoint>5510 Overland Avenue, Suite 230</delPoint>
<city>San Diego</city>
<adminArea>California</adminArea>
<postCode>92123</postCode>
<country>US</country>
<eMailAdd>webmaster@sangis.org</eMailAdd>
</cntAddress>
<cntHours>8:00 AM - 4:00 PM Monday thru Friday</cntHours>
</rpCntInfo>
<rpIndName>Data Librarian</rpIndName>
<rpPosName>Data Librarian</rpPosName>
<displayName>SanGIS</displayName>
<role>
<RoleCd value="005"/>
</role>
<displayName>Data Librarian</displayName>
</distorCont>
<distorOrdPrc>
<ordInstr>Refer to SanGIS website (http://www.sangis.org/services/index.html) to obtain further information on mapping and data extraction services available from SanGIS.</ordInstr>
</distorOrdPrc>
<distorTran>
<onLineSrc>
<orDesc>Dataset not available online or for download</orDesc>
</onLineSrc>
</distorTran>
</distributor>
<distFormat>
<formatName Sync="TRUE">File Geodatabase Raster Dataset</formatName>
</distFormat>
</distInfo>
<dataIdInfo>
<dataLang>
<languageCode country="USA" value="eng"/>
<countryCode Sync="TRUE" value="USA"/>
</dataLang>
<idCitation>
<presForm>
<fgdcGeoform>raster digital data</fgdcGeoform>
<PresFormCd Sync="TRUE" value="011"/>
</presForm>
<otherCitDet>Dataset published/created some time 2003-2004. No exact date available.
IFSAR data collected in 2002.</otherCitDet>
<resTitle Sync="TRUE">Hillshade_2017</resTitle>
<date>
<pubDate>2018-09-21T00:00:00</pubDate>
</date>
</idCitation>
<descKeys>
<thesaName uuidref="723f6998-058e-11dc-8314-0800200c9a66"/>
</descKeys>
<spatRpType>
<SpatRepTypCd value="002"/>
</spatRpType>
<dataExt>
<exDesc>San Diego County
Temporal date ranges between 2014 and 2017 as the dataset is a composite of Lidar data collected for the coastal and incorporated areas in 2014, mid-county in 2015 and east county in 2017.</exDesc>
<tempEle>
<TempExtent>
<exTemp>
<TM_Period>
<tmBegin>2014-07-01T00:00:00</tmBegin>
<tmEnd>2017-07-01T00:00:00</tmEnd>
</TM_Period>
</exTemp>
</TempExtent>
</tempEle>
</dataExt>
<idPurp>This raster dataset shows hillshade relief for San Diego County.
Hillshade generated from a composite DEM of LiDAR data collected in 2014, 2015 and 2017. Intended for use for cartographic purposes only.</idPurp>
<idAbs>&lt;div style='text-align:Left;'&gt;&lt;div&gt;&lt;div&gt;&lt;p&gt;&lt;span&gt;This raster dataset shows hillshade relief for San Diego County to be used for cartographic purposes.&lt;/span&gt;&lt;/p&gt;&lt;p&gt;&lt;span&gt;Pixels are 2.5ft x 2.5 ft.&lt;/span&gt;&lt;/p&gt;&lt;p&gt;&lt;span&gt;This hillshade layer was created from a &lt;/span&gt;&lt;span&gt;&lt;span&gt;Merged Digital Elevation Model (DEM) data derived from Quality Level 2 LiDAR (USGS Base Specification) LiDAR acquired through the San Diego regional partnership acquisition projects in 2014 and 2017, and the FEMA acquisition project in 2015. Class 2 (ground) LiDAR points in conjunction with the hydro breaklines were used to create 2.5-foot hydro-flattened raster DEMs from which contour lines were generated.&lt;/span&gt;&lt;/span&gt;&lt;/p&gt;&lt;p&gt;&lt;span&gt;Geographic Extent:&lt;/span&gt;&lt;/p&gt;&lt;p&gt;&lt;span&gt;&lt;span&gt;San Diego County in southwestern California, covering approximately 4,475 total square miles.&lt;/span&gt;&lt;/span&gt;&lt;/p&gt;&lt;p&gt;&lt;span&gt;This layer is not suitable for analysis purposes.&lt;/span&gt;&lt;/p&gt;&lt;/div&gt;&lt;/div&gt;&lt;/div&gt;</idAbs>
<idCredit>SANDAG, FEMA, County of San Diego, SanGIS</idCredit>
<searchKeys>
<keyword>Raster</keyword>
<keyword>Hillshade</keyword>
<keyword>LiDAR</keyword>
<keyword>Elevation</keyword>
<keyword>remote sensing</keyword>
<keyword>San Diego County</keyword>
</searchKeys>
<resConst>
<Consts>
<useLimit>&lt;div style='text-align:Left;'&gt;&lt;div&gt;&lt;div&gt;&lt;p style='margin:0 0 0 0;'&gt;&lt;span&gt;Data is generalized and created for use in regional projects. Please refer to SanGIS data end user use agreement and disclaimer which is available at the following: http://www.sangis.org/Legal_Notice.htm.&lt;/span&gt;&lt;/p&gt;&lt;p&gt;&lt;span /&gt;&lt;/p&gt;&lt;/div&gt;&lt;/div&gt;&lt;/div&gt;</useLimit>
</Consts>
</resConst>
<themeKeys>
<keyword>Raster, Hillshade, IfSAR, radar, remote sensing, NOAA</keyword>
</themeKeys>
<placeKeys>
<keyword>California, County of San Diego, Carlsbad, Coronado, Chula Vista, Del Mar, El Cajon, Encinitas, Escondido, Imperial Beach, Lemon Grove, La Mesa, National City, Oceanside, Poway, San Diego, San Marcos, Solana Beach, Santee, Vista</keyword>
</placeKeys>
<dataChar>
<CharSetCd value="004"/>
</dataChar>
<idStatus>
<ProgCd value="001"/>
</idStatus>
<idPoC>
<rpOrgName>SanGIS</rpOrgName>
<rpCntInfo>
<cntPhone>
<voiceNum tddtty="">(858) 874-7000</voiceNum>
<faxNum>(858) 874-7002</faxNum>
</cntPhone>
<cntAddress addressType="both">
<delPoint>5510 Overland Avenue, Suite 230</delPoint>
<city>San Diego</city>
<adminArea>California</adminArea>
<postCode>92123</postCode>
<country>US</country>
<eMailAdd>webmaster@sangis.org</eMailAdd>
</cntAddress>
<cntHours>8:00 AM - 4:00 PM Monday thru Friday</cntHours>
</rpCntInfo>
<rpIndName>Data Librarian</rpIndName>
<rpPosName>Data Librarian</rpPosName>
<displayName>SanGIS</displayName>
<role>
<RoleCd value="007"/>
</role>
</idPoC>
<resMaint>
<maintFreq>
<MaintFreqCd value="011"/>
</maintFreq>
</resMaint>
<envirDesc Sync="TRUE"> Version 6.2 (Build 9200) ; Esri ArcGIS 10.5.1.7333</envirDesc>
<dataExt>
<geoEle>
<GeoBndBox esriExtentType="search">
<exTypeCode Sync="TRUE">1</exTypeCode>
<westBL Sync="TRUE">-117.600239</westBL>
<eastBL Sync="TRUE">-116.075027</eastBL>
<northBL Sync="TRUE">33.512213</northBL>
<southBL Sync="TRUE">32.491404</southBL>
</GeoBndBox>
</geoEle>
</dataExt>
<tpCat>
<TopicCatCd value="010"/>
</tpCat>
<tpCat>
<TopicCatCd value="006"/>
</tpCat>
</dataIdInfo>
<refSysInfo>
<RefSystem>
<refSysID>
<identCode code="0"/>
<idCodeSpace Sync="TRUE">EPSG</idCodeSpace>
<idVersion Sync="TRUE">8.9.3(10.3.1)</idVersion>
</refSysID>
</RefSystem>
</refSysInfo>
<eainfo>
<detailed Name="VAT_Hillshade">
<enttyp>
<enttypl Sync="TRUE">VAT_Hillshade</enttypl>
<enttypt Sync="TRUE">Table</enttypt>
<enttypc Sync="TRUE">255</enttypc>
<enttypd>Raster Hillshade for San Diego County</enttypd>
<enttypds>SanGIS</enttypds>
</enttyp>
<attr>
<attrlabl Sync="TRUE">OBJECTID</attrlabl>
<attalias Sync="TRUE">OBJECTID</attalias>
<attrtype Sync="TRUE">OID</attrtype>
<attwidth Sync="TRUE">4</attwidth>
<atprecis Sync="TRUE">0</atprecis>
<attscale Sync="TRUE">0</attscale>
<attrdef Sync="TRUE">Internal feature number.</attrdef>
<attrdefs Sync="TRUE">ESRI</attrdefs>
<attrdomv>
<udom Sync="TRUE">Sequential unique whole numbers that are automatically generated.</udom>
</attrdomv>
</attr>
<attr>
<attrlabl Sync="TRUE">VALUE</attrlabl>
<attalias Sync="TRUE">Value</attalias>
<attrtype Sync="TRUE">Integer</attrtype>
<attwidth Sync="TRUE">4</attwidth>
<atprecis Sync="TRUE">0</atprecis>
<attscale Sync="TRUE">0</attscale>
<attrdef>Unique ID for pixel</attrdef>
<attrdefs>SanGIS</attrdefs>
</attr>
<attr>
<attrlabl Sync="TRUE">COUNT</attrlabl>
<attalias Sync="TRUE">Count</attalias>
<attrtype Sync="TRUE">Double</attrtype>
<attwidth Sync="TRUE">8</attwidth>
<atprecis Sync="TRUE">0</atprecis>
<attscale Sync="TRUE">0</attscale>
<attrdefs>SanGIS</attrdefs>
<attrdef>Unknown</attrdef>
</attr>
</detailed>
<overview>
<eaover>The RASTER.HILLSHADE dataset contains the following fields:
VALUE: Unique ID for pixel
COUNT: unknown</eaover>
<eadetcit>None</eadetcit>
</overview>
</eainfo>
<mdHrLvName Sync="TRUE">dataset</mdHrLvName>
<spdoinfo>
<rastinfo>
<rasttype Sync="TRUE">Pixel</rasttype>
<rowcount Sync="TRUE">147516</rowcount>
<colcount Sync="TRUE">185968</colcount>
<rastxsz Sync="TRUE">2.500000</rastxsz>
<rastysz Sync="TRUE">2.500000</rastysz>
<rastbpp Sync="TRUE">8</rastbpp>
<vrtcount Sync="TRUE">1</vrtcount>
<rastorig Sync="TRUE">Upper Left</rastorig>
<rastcmap Sync="TRUE">FALSE</rastcmap>
<rastcomp Sync="TRUE">LZ77</rastcomp>
<rastband Sync="TRUE">1</rastband>
<rastdtyp Sync="TRUE">pixel codes</rastdtyp>
<rastifor Sync="TRUE">FGDBR</rastifor>
<rastplyr Sync="TRUE">TRUE</rastplyr>
</rastinfo>
</spdoinfo>
<spref>
<horizsys>
<planar>
<planci>
<plance Sync="TRUE">row and column</plance>
<coordrep>
<absres Sync="TRUE">2.500000</absres>
<ordres Sync="TRUE">2.500000</ordres>
</coordrep>
</planci>
</planar>
</horizsys>
</spref>
<mdDateSt Sync="TRUE">20180927</mdDateSt>
</metadata>
