{ "extent": { "ymin": 1761209.9999311417, "xmin": 6150079.9998755008, "ymax": 2129999.9999311417, "xmax": 6614999.9998755008, "spatialReference": { "latestVcsWkid": 6360, "latestWkid": 6426, "wkid": 103008, "vcsWkid": 105703 } }, "blockWidth": 128, "mosaicOperator": "First", "serviceSourceType": "esriImageServiceSourceTypeDataset", "hasMultidimensions": false, "maxImageWidth": 15000, "meanValues": [169.42613047280369], "hasColormap": false, "compressionType": "LZ77", "defaultCompressionQuality": 75, "maxValues": [254], "hasHistograms": true, "datasetFormat": "FGDBR", "maxImageHeight": 4100, "sortField": "", "bandNames": ["Band_1"], "spatialReference": { "latestVcsWkid": 6360, "latestWkid": 6426, "wkid": 103008, "vcsWkid": 105703 }, "fullExtent": { "ymin": 1761209.9999311417, "xmin": 6150079.9998755008, "ymax": 2129999.9999311417, "xmax": 6614999.9998755008, "spatialReference": { "latestVcsWkid": 6360, "latestWkid": 6426, "wkid": 103008, "vcsWkid": 105703 } }, "bandCount": 1, "rasterFunctionInfos": [{ "help": "", "name": "None", "description": "" }], "supportsStatistics": false, "sortableFields": "", "minValues": [0], "allowRasterFunction": true, "allowComputeTiePoints": false, "serviceDataType": "esriImageServiceDataTypeGeneric", "supportsAdvancedQueries": false, "currentVersion": 12.1, "heightModelInfo": { "vertCRS": "NAVD_1988_Foot_US", "heightModel": "gravity_related_height", "heightUnit": "us-foot" }, "sortValue": null, "objectIdField": "", "blockHeight": 128, "initialExtent": { "ymin": 1761209.9999311417, "xmin": 6150079.9998755008, "ymax": 2129999.9999311417, "xmax": 6614999.9998755008, "spatialReference": { "latestVcsWkid": 6360, "latestWkid": 6426, "wkid": 103008, "vcsWkid": 105703 } }, "pixelSizeX": 2.5, "pixelSizeY": 2.5, "defaultMosaicMethod": "Center", "name": "Public/Hillshade_2017", "allowedMosaicMethods": "", "fields": [], "allowAnalysis": true, "hasRasterAttributeTable": true, "useStandardizedQueries": false, "description": "
This raster dataset shows hillshade relief for San Diego County to be used for cartographic purposes.<\/span><\/p> Pixels are 2.5ft x 2.5 ft.<\/span><\/p> This hillshade layer was created from a <\/span>Merged Digital Elevation Model (DEM) data derived from Quality Level 2 LiDAR (USGS Base Specification) LiDAR acquired through the San Diego regional partnership acquisition projects in 2014 and 2017, and the FEMA acquisition project in 2015. Class 2 (ground) LiDAR points in conjunction with the hydro breaklines were used to create 2.5-foot hydro-flattened raster DEMs from which contour lines were generated.<\/span><\/span><\/p> Geographic Extent:<\/span><\/p> San Diego County in southwestern California, covering approximately 4,475 total square miles.<\/span><\/span><\/p> This layer is not suitable for analysis purposes.<\/span><\/p><\/div><\/div><\/div>",
"pixelType": "U8",
"meanPixelSize": 0.7620015240030481,
"exportTilesAllowed": false,
"editFieldsInfo": null,
"rasterTypeInfos": [{
"help": "",
"name": "Raster Dataset",
"description": "Supports all ArcGIS Raster Datasets"
}],
"defaultResamplingMethod": "Bilinear",
"itemAccess": false,
"minScale": 0,
"serviceProperties": " This raster dataset shows hillshade relief for San Diego County to be used for cartographic purposes.<\/span><\/p> Pixels are 2.5ft x 2.5 ft.<\/span><\/p> This hillshade layer was created from a <\/span>Merged Digital Elevation Model (DEM) data derived from Quality Level 2 LiDAR (USGS Base Specification) LiDAR acquired through the San Diego regional partnership acquisition projects in 2014 and 2017, and the FEMA acquisition project in 2015. Class 2 (ground) LiDAR points in conjunction with the hydro breaklines were used to create 2.5-foot hydro-flattened raster DEMs from which contour lines were generated.<\/span><\/span><\/p> Geographic Extent:<\/span><\/p> San Diego County in southwestern California, covering approximately 4,475 total square miles.<\/span><\/span><\/p> This layer is not suitable for analysis purposes.<\/span><\/p><\/div><\/div><\/div>",
"allowCopy": true,
"copyrightText": "SANDAG, FEMA, County of San Diego, SanGIS",
"mensurationCapabilities": "Basic",
"ownershipBasedAccessControlForRasters": null
}