<?xml version="1.0" encoding="UTF-8" standalone="no"?>
<metadata xml:lang="en">
<Esri>
<CreaDate>20180814</CreaDate>
<CreaTime>15493700</CreaTime>
<ArcGISFormat>1.0</ArcGISFormat>
<ArcGISstyle>RGDW_Publication_1.4</ArcGISstyle>
<SyncOnce>FALSE</SyncOnce>
<DataProperties>
<itemProps>
<itemName Sync="TRUE">DEM_MinusRincon</itemName>
<itemLocation>
<linkage Sync="TRUE">file://\\STONEWALL\E$\DEMs.gdb</linkage>
<protocol Sync="TRUE">Local Area Network</protocol>
</itemLocation>
<imsContentType Sync="TRUE">002</imsContentType>
<nativeExtBox>
<westBL Sync="TRUE">6150079.999876</westBL>
<eastBL Sync="TRUE">6614999.999876</eastBL>
<southBL Sync="TRUE">1761209.999931</southBL>
<northBL Sync="TRUE">2129999.999931</northBL>
<exTypeCode Sync="TRUE">1</exTypeCode>
</nativeExtBox>
</itemProps>
<coordRef>
<type Sync="TRUE">Projected</type>
<geogcsn Sync="TRUE">GCS_NAD_1983_2011</geogcsn>
<csUnits Sync="TRUE">Linear Unit: Foot_US (0.304801)</csUnits>
<projcsn Sync="TRUE">NAD_1983_2011_StatePlane_California_VI_FIPS_0406_Ft_US</projcsn>
<peXml Sync="TRUE">&lt;ProjectedCoordinateSystem xsi:type='typens:ProjectedCoordinateSystem' xmlns:xsi='http://www.w3.org/2001/XMLSchema-instance' xmlns:xs='http://www.w3.org/2001/XMLSchema' xmlns:typens='http://www.esri.com/schemas/ArcGIS/10.6'&gt;&lt;WKT&gt;PROJCS[&amp;quot;NAD_1983_2011_StatePlane_California_VI_FIPS_0406_Ft_US&amp;quot;,GEOGCS[&amp;quot;GCS_NAD_1983_2011&amp;quot;,DATUM[&amp;quot;D_NAD_1983_2011&amp;quot;,SPHEROID[&amp;quot;GRS_1980&amp;quot;,6378137.0,298.257222101]],PRIMEM[&amp;quot;Greenwich&amp;quot;,0.0],UNIT[&amp;quot;Degree&amp;quot;,0.0174532925199433]],PROJECTION[&amp;quot;Lambert_Conformal_Conic&amp;quot;],PARAMETER[&amp;quot;False_Easting&amp;quot;,6561666.666666666],PARAMETER[&amp;quot;False_Northing&amp;quot;,1640416.666666667],PARAMETER[&amp;quot;Central_Meridian&amp;quot;,-116.25],PARAMETER[&amp;quot;Standard_Parallel_1&amp;quot;,32.78333333333333],PARAMETER[&amp;quot;Standard_Parallel_2&amp;quot;,33.88333333333333],PARAMETER[&amp;quot;Latitude_Of_Origin&amp;quot;,32.16666666666666],UNIT[&amp;quot;Foot_US&amp;quot;,0.3048006096012192]],VERTCS[&amp;quot;NAVD_1988_Foot_US&amp;quot;,VDATUM[&amp;quot;North_American_Vertical_Datum_1988&amp;quot;],PARAMETER[&amp;quot;Vertical_Shift&amp;quot;,0.0],PARAMETER[&amp;quot;Direction&amp;quot;,1.0],UNIT[&amp;quot;Foot_US&amp;quot;,0.3048006096012192]]&lt;/WKT&gt;&lt;XOrigin&gt;-118608900&lt;/XOrigin&gt;&lt;YOrigin&gt;-91259500&lt;/YOrigin&gt;&lt;XYScale&gt;35979706.307677768&lt;/XYScale&gt;&lt;ZOrigin&gt;-100000&lt;/ZOrigin&gt;&lt;ZScale&gt;10000&lt;/ZScale&gt;&lt;MOrigin&gt;-100000&lt;/MOrigin&gt;&lt;MScale&gt;10000&lt;/MScale&gt;&lt;XYTolerance&gt;0.0032808333333333331&lt;/XYTolerance&gt;&lt;ZTolerance&gt;0.001&lt;/ZTolerance&gt;&lt;MTolerance&gt;0.001&lt;/MTolerance&gt;&lt;HighPrecision&gt;true&lt;/HighPrecision&gt;&lt;WKID&gt;103008&lt;/WKID&gt;&lt;LatestWKID&gt;6426&lt;/LatestWKID&gt;&lt;VCSWKID&gt;105703&lt;/VCSWKID&gt;&lt;LatestVCSWKID&gt;6360&lt;/LatestVCSWKID&gt;&lt;/ProjectedCoordinateSystem&gt;</peXml>
</coordRef>
<RasterProperties>
<General>
<PixelDepth Sync="TRUE">32</PixelDepth>
<HasColormap Sync="TRUE">FALSE</HasColormap>
<CompressionType Sync="TRUE">None</CompressionType>
<NumBands Sync="TRUE">1</NumBands>
<Format Sync="TRUE">IMAGINE Image</Format>
<HasPyramids Sync="TRUE">TRUE</HasPyramids>
<SourceType Sync="TRUE">continuous</SourceType>
<PixelType Sync="TRUE">floating point</PixelType>
<NoDataValue Sync="TRUE">-3.4028235e+038</NoDataValue>
</General>
</RasterProperties>
<lineage>
<Process Date="20180531" Name="" Time="145706" ToolSource="c:\program files (x86)\arcgis\desktop10.6\ArcToolbox\Toolboxes\Data Management Tools.tbx\MosaicToNewRaster" export="">MosaicToNewRaster SD2017_east_Mosaic.img;FEMA_2015_Mosaic.img;SD2014_West_Mosaic.img L:\gis\LIDAR\SD2017\Testing\Merged_Regionwide_DEM SD_Merged_DEM.img PROJCS['NAD_1983_2011_StatePlane_California_VI_FIPS_0406_Ft_US',GEOGCS['GCS_NAD_1983_2011',DATUM['D_NAD_1983_2011',SPHEROID['GRS_1980',6378137.0,298.257222101]],PRIMEM['Greenwich',0.0],UNIT['Degree',0.0174532925199433]],PROJECTION['Lambert_Conformal_Conic'],PARAMETER['False_Easting',6561666.666666666],PARAMETER['False_Northing',1640416.666666667],PARAMETER['Central_Meridian',-116.25],PARAMETER['Standard_Parallel_1',32.78333333333333],PARAMETER['Standard_Parallel_2',33.88333333333333],PARAMETER['Latitude_Of_Origin',32.16666666666666],UNIT['Foot_US',0.3048006096012192]],VERTCS['NAVD_1988_Foot_US',VDATUM['North_American_Vertical_Datum_1988'],PARAMETER['Vertical_Shift',0.0],PARAMETER['Direction',1.0],UNIT['Foot_US',0.3048006096012192]] 32_BIT_FLOAT 2.5 1 LAST FIRST</Process>
<Process Date="20180918" Time="154352" ToolSource="c:\program files (x86)\arcgis\desktop10.5\ArcToolbox\Toolboxes\Data Management Tools.tbx\CopyRaster">CopyRaster F:\Regional_DEM_and_Contours\SanDiegoRegionDEM\SD_Merged_DEM.img F:\Regional_DEM_and_Contours\SanDiegoRegionDEM\DEMs.gdb\SD_Merged_DEM # # -3.402823e+038 NONE NONE # NONE NONE "Esri Grid" NONE</Process>
<Process Date="20200115" Time="210014" ToolSource="d:\programfiles\arcgis\desktop10.6\ArcToolbox\Toolboxes\Data Management Tools.tbx\Clip">Clip SD_Merged_DEM "6124363.73673814 1748904.07625166 6639836.99667947 2156159.98026295" E:\DEMs.gdb\DEM_MinusRincon OutsideRincon2019 -3.402823e+38 ClippingGeometry NO_MAINTAIN_EXTENT</Process>
</lineage>
<copyHistory>
<copy date="20180814" dest="\\GIS\gis\data\elevation\SanDiegoRegionDEM\SD_Merged_DEM.img" source="\\nasa8\Box1_Nasa8\gis\LIDAR\SD2017\Testing\Merged_Regionwide_DEM\SD_Merged_DEM.img" time="15493700"/>
</copyHistory>
</DataProperties>
<SyncDate>20200116</SyncDate>
<SyncTime>07424700</SyncTime>
<ModDate>20200116</ModDate>
<ModTime>07424700</ModTime>
<scaleRange>
<minScale>150000000</minScale>
<maxScale>5000</maxScale>
</scaleRange>
<ArcGISProfile>RGDW_Publication</ArcGISProfile>
</Esri>
<dataIdInfo>
<envirDesc Sync="TRUE"> Version 6.2 (Build 9200) ; Esri ArcGIS 10.6.1.9270</envirDesc>
<dataLang>
<languageCode Sync="TRUE" value="eng"/>
<countryCode Sync="TRUE" value="USA"/>
</dataLang>
<idCitation>
<resTitle Sync="TRUE">SD_Merged_DEM</resTitle>
<presForm>
<PresFormCd Sync="TRUE" value="011"/>
</presForm>
<date>
<createDate>2018-07-06T00:00:00</createDate>
<pubDate>2018-08-15T00:00:00</pubDate>
</date>
</idCitation>
<spatRpType>
<SpatRepTypCd Sync="TRUE" value="002"/>
</spatRpType>
<dataExt>
<geoEle>
<GeoBndBox esriExtentType="search">
<exTypeCode Sync="TRUE">1</exTypeCode>
<westBL Sync="TRUE">-117.600239</westBL>
<eastBL Sync="TRUE">-116.075027</eastBL>
<northBL Sync="TRUE">33.512213</northBL>
<southBL Sync="TRUE">32.491404</southBL>
</GeoBndBox>
</geoEle>
<exDesc>San Diego County</exDesc>
</dataExt>
<idPurp>Merged Digital Elevation Model (DEM) data derived from Quality Level 2 LiDAR (USGS Base Specification) acquired through the San Diego regional partnership acquisition projects in 2014 and 2017, and the FEMA acquisition project in 2015.</idPurp>
<idAbs>&lt;div style='text-align:Left;'&gt;&lt;div&gt;&lt;div&gt;&lt;p&gt;&lt;span&gt;&lt;span&gt;Product: &lt;/span&gt;&lt;/span&gt;&lt;/p&gt;&lt;p&gt;&lt;span&gt;Merged Digital Elevation Model (DEM) data derived from Quality Level 2 LiDAR (USGS Base Specification) LiDAR acquired through the San Diego regional partnership acquisition projects in 2014 and 2017, and the FEMA acquisition project in 2015. Class 2 (ground) LiDAR points in conjunction with the hydro breaklines were used to create 2.5-foot hydro-flattened raster DEMs from which contour lines were generated.&lt;/span&gt;&lt;/p&gt;&lt;p&gt;&lt;span&gt;&lt;span&gt;Geographic Extent:&lt;/span&gt;&lt;/span&gt;&lt;/p&gt;&lt;p&gt;&lt;span&gt;&lt;span&gt;San Diego County in southwestern California, covering approximately 4,475 total square miles.&lt;/span&gt;&lt;/span&gt;&lt;/p&gt;&lt;p&gt;&lt;span&gt;&lt;span&gt;Dataset Descriptions:&lt;/span&gt;&lt;/span&gt;&lt;/p&gt;&lt;p&gt;&lt;span&gt;&lt;span&gt;2014: The San Diego, California 2014 LiDAR project called for the Planning, Acquisition, processing and derivative products of LIDAR data to be collected at a nominal pulse spacing (NPS) of 0.7 meter. Project specifications are based on the U.S. Geological Survey National Geospatial Program Base LIDAR Specification, Version 1. The data was developed based on a horizontal projection/datum of NAD83, State Plane California VI, Survey Feet and vertical datum of NAVD1988 (GEOID12A), Survey Feet. LiDAR data was delivered in RAW flight line swath format, processed to create Classified LAS 1.2 Files formatted to 1565 individual 5000 ft x 5000 ft tiles, and corresponding Intensity Images and Bare Earth DEMs tiled to the same 5000 ft x 5000 ft schema, and Breaklines in Esri geodatabase format. Ground Conditions: LiDAR was collected in late 2014 and early 2015, while no snow was on the ground and rivers were at or below normal levels. In order to post process the LiDAR data to meet task order specifications, Photo Science established a total of 88 QA calibration control points and 80 Land Cover control points that were used to calibrate the LIDAR to known ground locations established throughout the San Diego, California project area.&lt;/span&gt;&lt;/span&gt;&lt;/p&gt;&lt;p&gt;&lt;span&gt;&lt;span&gt;2015: The San Diego, California 2015 QL2 LiDAR project called for the planning and acquisition of LIDAR data to be collected at a nominal pulse spacing (NPS) of 0.7 meter. Project specifications are based on the U.S. Geological Survey National Geospatial Program Base LIDAR Specification, Version 1.2. The data was developed based on a horizontal projection/datum of NAD83 (2011) State Plane California VI, US survey feet and vertical datum of NAVD1988 (GEOID12B), US survey feet. LiDAR data was delivered in RAW flight line swath format, processed to create Classified LAS 1.4 Files formatted to 2,045 individual 2,500-foot x 2,500-foot tiles, corresponding 2.5-ft hydro-flattened bare-earth DEMs tiled to the same 2,500-foot x 2,500-foot schema in ERDAS .IMG format, and Breaklines in Esri file geodatabase format. Ground Conditions: LiDAR was collected in late 2015, while no snow was on the ground and rivers were at or below normal levels. In order to post process the LiDAR data to meet task order specifications, Quantum Spatial established 39 calibration control points in order to calibrate the LIDAR to known ground locations established throughout the project area. The accuracy of the data was checked with 119 QC points. &lt;/span&gt;&lt;/span&gt;&lt;/p&gt;&lt;p&gt;&lt;span&gt;2017: The Eastern San Diego County, California 2017 QL2 Lidar project called for the planning, acquisition, processing, and derivative products of lidar data to be collected at a nominal pulse spacing (NPS) of 0.7 meters. Project specifications are based on the U.S. Geological Survey National Geospatial Program Base Lidar Specification, Version 1.2. The data was developed based on a horizontal projection/datum of NAD83 (2011), State Plane California Zone VI, US survey feet and vertical datum of NAVD88 (GEOID12B), US survey feet. Lidar data was delivered as flightline-extent unclassified LAS swaths, as processed Classified LAS 1.4 files formatted to 1,710 individual 5,000-foot x 5,000-foot pilot tiles; as tiled intensity imagery, and as tiled bare earth DEMs, all tiled to the same schema. Continuous breaklines were produced in Esri file geodatabase format. Building footprints were produced in Esri file geodatabase format. Tiled contours with a 2-foot interval were produced in Esri file geodatabase format. Ground Conditions: Lidar was partially collected in fall/winter of late 2016/early 2017, while no snow was on the ground and rivers were at or below normal levels. In order to post process the lidar data to meet task order specifications and meet ASPRS vertical accuracy guidelines, Quantum Spatial, Inc. established a total of 28 ground control points that were used to calibrate the lidar to known ground locations established throughout the project area. An additional 116 independent accuracy checkpoints, 64 in Bare Earth and Urban landcovers (64 NVA points), 52 in the Forest, Shrubs, and Tall Weeds category (52 VVA points), were used to assess the vertical accuracy of the data. These checkpoints were not used to calibrate or post process the data.&lt;/span&gt;&lt;/p&gt;&lt;p&gt;&lt;span&gt;Special Considerations:&lt;/span&gt;&lt;/p&gt;&lt;p&gt;&lt;span&gt;The data covering the Borrego Valley and surrounding area (Min X: 6499999.9998755, Min Y: 2014999.99983956, Max X: 6559999.999954, Max Y: 2084999.99993114) was developed by processing the swath LiDAR data from the 2017 Eastern San Diego County project, and merging with the 2015 Borrego Valley LiDAR data to create a new DEM. This was necessary to fill in the gap areas between the two acquisition projects. The four DEM datasets were then merged in the following order: Borrego Valley DEM --&amp;gt; 2017 Eastern San Diego DEM --&amp;gt; FEMA 2015 Central San Diego DEM --&amp;gt; 2014 Western San Diego DEM.&lt;/span&gt;&lt;/p&gt;&lt;p&gt;&lt;span&gt;SANDAG has determined that this merged regionwide DEM is adequate for cartographic purposes. For analysis purposes, users may elect to use the original source data from each project. Refer to the metadata for each acquisition project for additional details.&lt;/span&gt;&lt;/p&gt;&lt;p&gt;&lt;span /&gt;&lt;/p&gt;&lt;/div&gt;&lt;/div&gt;&lt;/div&gt;</idAbs>
<searchKeys>
<keyword>San Diego</keyword>
<keyword>DEM</keyword>
<keyword>Elevation</keyword>
<keyword>LiDAR</keyword>
<keyword>SANDAG</keyword>
</searchKeys>
<idCredit>SANDAG, FEMA, County of San Diego</idCredit>
<idPoC>
<rpIndName>Pat Landrum</rpIndName>
<rpOrgName>SANDAG 401 B Street, Suite 800 San Diego, CA 92101</rpOrgName>
<rpPosName>Manager of Data Solutions</rpPosName>
<role>
<RoleCd value="010"/>
</role>
</idPoC>
<resConst>
<Consts>
<useLimit>&lt;div style='text-align:Left;'&gt;&lt;div&gt;&lt;div&gt;&lt;p&gt;&lt;span&gt;Data Disclaimer&lt;/span&gt;&lt;/p&gt;&lt;p&gt;&lt;span /&gt;&lt;/p&gt;&lt;p&gt;&lt;span&gt;While the data have been tested for accuracy and are properly functioning, SANDAG disclaims any responsibility for the accuracy or correctness of the data.&lt;/span&gt;&lt;/p&gt;&lt;p&gt;&lt;span /&gt;&lt;/p&gt;&lt;p&gt;&lt;span&gt;THE FOREGOING WARRANTY IS EXCLUSIVE AND IN LIEU OF ALL OTHER WARRANTIES OR MERCHANTABILITY, FITNESS FOR PARTICULAR PURPOSE AND/OR ANY OTHER TYPE WHETHER EXPRESSED OR IMPLIED.&lt;/span&gt;&lt;/p&gt;&lt;p&gt;&lt;span /&gt;&lt;/p&gt;&lt;p&gt;&lt;span&gt;In no event shall SANDAG become liable to users of these data, or any other party, for any loss or damages, consequential or otherwise, including but not limited to time, money, or goodwill, arising from the use, operation or modification of the data. In using these data, users further agree to indemnify, defend, and hold harmless SANDAG for any and all liability of any nature arising out of or resulting from the lack of accuracy or correctness of the data, or the use of the data.&lt;/span&gt;&lt;/p&gt;&lt;p&gt;&lt;span /&gt;&lt;/p&gt;&lt;p&gt;&lt;span&gt;To assist SANDAG in the maintenance of the data, users should provide SANDAG, at the address shown below, information concerning errors or discrepancies found in using the data.&lt;/span&gt;&lt;/p&gt;&lt;p&gt;&lt;span /&gt;&lt;/p&gt;&lt;p&gt;&lt;span&gt;SANDAG&lt;/span&gt;&lt;/p&gt;&lt;p&gt;&lt;span&gt;Attn: GIS Project Manager&lt;/span&gt;&lt;/p&gt;&lt;p&gt;&lt;span&gt;401 "B" Street, Suite 800&lt;/span&gt;&lt;/p&gt;&lt;p&gt;&lt;span&gt;San Diego, CA 92101&lt;/span&gt;&lt;/p&gt;&lt;p&gt;&lt;span /&gt;&lt;/p&gt;&lt;p&gt;&lt;span&gt;gismaster@sandag.org&lt;/span&gt;&lt;/p&gt;&lt;p&gt;&lt;span /&gt;&lt;/p&gt;&lt;p&gt;&lt;span&gt;In using the data, users should be aware that these data are generalized and not parcel based, and were created for use in regional planning projects.&lt;/span&gt;&lt;/p&gt;&lt;p&gt;&lt;span /&gt;&lt;/p&gt;&lt;p&gt;&lt;span&gt;Please acknowledge SANDAG as a source when SANDAG data are used in the preparation of reports, papers, publications, maps, and other products.&lt;/span&gt;&lt;/p&gt;&lt;p&gt;&lt;span /&gt;&lt;/p&gt;&lt;p&gt;&lt;span&gt;To ensure that appropriate documentation and data limitations are provided, these databases should not be redistributed to any other parties.&lt;/span&gt;&lt;/p&gt;&lt;/div&gt;&lt;/div&gt;&lt;/div&gt;</useLimit>
</Consts>
</resConst>
</dataIdInfo>
<mdLang>
<languageCode Sync="TRUE" value="eng"/>
<countryCode Sync="TRUE" value="USA"/>
</mdLang>
<mdChar>
<CharSetCd Sync="TRUE" value="004"/>
</mdChar>
<distInfo>
<distFormat>
<formatName Sync="TRUE">File Geodatabase Raster Dataset</formatName>
</distFormat>
<distributor>
<distorCont>
<rpIndName>Pat Landrum</rpIndName>
<rpOrgName>SANDAG 401 B Street, Suite 800 San Diego, CA 92101</rpOrgName>
<rpPosName>Manager of Data Solutions</rpPosName>
<role>
<RoleCd value="010"/>
</role>
<editorSave>False</editorSave>
<displayName>Pat Landrum</displayName>
</distorCont>
</distributor>
</distInfo>
<mdHrLv>
<ScopeCd Sync="TRUE" value="005"/>
</mdHrLv>
<mdHrLvName Sync="TRUE">dataset</mdHrLvName>
<refSysInfo>
<RefSystem>
<refSysID>
<identCode Sync="TRUE" code="6426"/>
<idCodeSpace Sync="TRUE">EPSG</idCodeSpace>
<idVersion Sync="TRUE">8.9.3(10.3.1)</idVersion>
</refSysID>
</RefSystem>
</refSysInfo>
<spatRepInfo>
<Georect>
<cellGeo>
<CellGeoCd Sync="TRUE" value="002"/>
</cellGeo>
<numDims Sync="TRUE">2</numDims>
<tranParaAv Sync="TRUE">1</tranParaAv>
<chkPtAv Sync="TRUE">0</chkPtAv>
<cornerPts>
<pos Sync="TRUE">6150079.999876 1761209.999931</pos>
</cornerPts>
<cornerPts>
<pos Sync="TRUE">6150079.999876 2129999.999931</pos>
</cornerPts>
<cornerPts>
<pos Sync="TRUE">6614999.999876 2129999.999931</pos>
</cornerPts>
<cornerPts>
<pos Sync="TRUE">6614999.999876 1761209.999931</pos>
</cornerPts>
<centerPt>
<pos Sync="TRUE">6382539.999876 1945604.999931</pos>
</centerPt>
<axisDimension type="002">
<dimSize Sync="TRUE">185968</dimSize>
<dimResol>
<value Sync="TRUE" uom="ftUS">2.500000</value>
</dimResol>
</axisDimension>
<axisDimension type="001">
<dimSize Sync="TRUE">147516</dimSize>
<dimResol>
<value Sync="TRUE" uom="ftUS">2.500000</value>
</dimResol>
</axisDimension>
<ptInPixel>
<PixOrientCd Sync="TRUE" value="001"/>
</ptInPixel>
</Georect>
</spatRepInfo>
<contInfo>
<ImgDesc>
<contentTyp>
<ContentTypCd Sync="TRUE" value="001"/>
</contentTyp>
<covDim>
<Band>
<dimDescrp Sync="TRUE">Layer_1</dimDescrp>
<maxVal Sync="TRUE">6518.713867</maxVal>
<minVal Sync="TRUE">-10.070775</minVal>
<bitsPerVal Sync="TRUE">32</bitsPerVal>
<valUnit>
<UOM type="length"/>
</valUnit>
</Band>
</covDim>
</ImgDesc>
</contInfo>
<mdDateSt Sync="TRUE">20200116</mdDateSt>
<spdoinfo>
<rastinfo>
<rasttype Sync="TRUE">Pixel</rasttype>
<rowcount Sync="TRUE">147516</rowcount>
<colcount Sync="TRUE">185968</colcount>
<rastxsz Sync="TRUE">2.500000</rastxsz>
<rastysz Sync="TRUE">2.500000</rastysz>
<rastbpp Sync="TRUE">32</rastbpp>
<vrtcount Sync="TRUE">1</vrtcount>
<rastorig Sync="TRUE">Upper Left</rastorig>
<rastcmap Sync="TRUE">FALSE</rastcmap>
<rastcomp Sync="TRUE">LZ77</rastcomp>
<rastband Sync="TRUE">1</rastband>
<rastdtyp Sync="TRUE">pixel codes</rastdtyp>
<rastifor Sync="TRUE">FGDBR</rastifor>
<rastplyr Sync="TRUE">TRUE</rastplyr>
</rastinfo>
</spdoinfo>
<spref>
<horizsys>
<planar>
<planci>
<plance Sync="TRUE">row and column</plance>
<coordrep>
<absres Sync="TRUE">2.500000</absres>
<ordres Sync="TRUE">2.500000</ordres>
</coordrep>
</planci>
</planar>
</horizsys>
</spref>
</metadata>
