{
 "documentInfo": {
  "Category": "",
  "Keywords": "slope,relief,percent slope,10ft cell size",
  "Version": "3.4.0",
  "Comments": "",
  "AntialiasingMode": "Fast",
  "Title": "Map1",
  "Author": "",
  "TextAntialiasingMode": "Force",
  "Subject": ""
 },
 "maxImageWidth": 4096,
 "wmtsScaleFactor": 0.00091863333333344881,
 "maxRecordCount": 2000,
 "tileInfo": {
  "lods": [
   {
    "level": 0,
    "scale": 1000000,
    "resolution": 868.05555555555554
   },
   {
    "level": 1,
    "scale": 500000,
    "resolution": 434.02777777777777
   },
   {
    "level": 2,
    "scale": 250000,
    "resolution": 217.01388888888889
   },
   {
    "level": 3,
    "scale": 125000,
    "resolution": 108.50694444444444
   },
   {
    "level": 4,
    "scale": 62500,
    "resolution": 54.253472222222221
   },
   {
    "level": 5,
    "scale": 31250,
    "resolution": 27.126736111111111
   },
   {
    "level": 6,
    "scale": 15625,
    "resolution": 13.563368055555555
   },
   {
    "level": 7,
    "scale": 7812.5,
    "resolution": 6.7816840277777777
   },
   {
    "level": 8,
    "scale": 3906.25,
    "resolution": 3.3908420138888888
   },
   {
    "level": 9,
    "scale": 1953.125,
    "resolution": 1.6954210069444444
   },
   {
    "level": 10,
    "scale": 976.5625,
    "resolution": 0.84771050347222221
   }
  ],
  "origin": {
   "x": -118608483.2119737,
   "y": 106192833.004648
  },
  "format": "MIXED",
  "compressionQuality": 75,
  "rows": 256,
  "dpi": 96,
  "spatialReference": {
   "falseM": -100000,
   "xyTolerance": 0.0032808333333333331,
   "mUnits": 10000,
   "zUnits": 10000,
   "latestWkid": 6426,
   "zTolerance": 0.001,
   "wkid": 103008,
   "xyUnits": 3048.00609601219276,
   "mTolerance": 0.001,
   "falseX": -118608900,
   "falseY": -91259500,
   "falseZ": -100000
  },
  "cols": 256
 },
 "description": "",
 "datesInUnknownTimezone": false,
 "supportsQueryDomains": true,
 "units": "esriFeet",
 "maxSelectionCount": 2000,
 "supportedImageFormatTypes": "PNG32,PNG24,PNG,JPG,DIB,TIFF,EMF,PS,PDF,GIF,SVG,SVGZ,BMP",
 "supportsClipping": true,
 "exportTilesAllowed": true,
 "maxImageHeight": 4096,
 "tables": [],
 "hasVersionedData": false,
 "supportsDatumTransformation": true,
 "cimVersion": "3.7.0",
 "supportsQueryDataElements": true,
 "layers": [
  {
   "subLayerIds": null,
   "maxScale": 0,
   "name": "Slope10ft_2014",
   "defaultVisibility": true,
   "id": 0,
   "minScale": 0,
   "supportsDynamicLegends": true,
   "type": "Raster Layer",
   "parentLayerId": -1
  }
 ],
 "mapName": "Slope10ft_2014",
 "minScale": 1000000,
 "archivingInfo": {
  "supportsHistoricMoment": false
 },
 "spatialReference": {
  "falseM": -100000,
  "xyTolerance": 0.0032808333333333331,
  "mUnits": 10000,
  "zUnits": 3048.00609601219185,
  "latestWkid": 6426,
  "zTolerance": 0.001,
  "wkid": 103008,
  "xyUnits": 3048.00609601219276,
  "mTolerance": 0.001,
  "falseX": -118608900,
  "falseY": -91259500,
  "falseZ": -100000
 },
 "tileImageInfo": {
  "bandCount": 1,
  "lercError": 0,
  "format": "MIXED",
  "compressionQuality": 75
 },
 "fullExtent": {
  "ymin": 1761209.9999311417,
  "xmin": 6150079.9998755008,
  "ymax": 2129999.9999311417,
  "xmax": 6614999.9998755008,
  "spatialReference": {
   "falseM": -100000,
   "xyTolerance": 0.0032808333333333331,
   "mUnits": 10000,
   "zUnits": 3048.00609601219185,
   "latestWkid": 6426,
   "zTolerance": 0.001,
   "wkid": 103008,
   "xyUnits": 3048.00609601219276,
   "mTolerance": 0.001,
   "falseX": -118608900,
   "falseY": -91259500,
   "falseZ": -100000
  }
 },
 "supportedExtensions": "WMSServer",
 "serviceItemId": "877a3bb54a23424bb4ca55674639301f",
 "capabilities": "Map,Data",
 "supportsDynamicLayers": true,
 "maxScale": 976.5625,
 "singleFusedMapCache": true,
 "currentVersion": 12.1,
 "storageInfo": {
  "storageFormat": "esriMapCacheStorageModeCompactV2",
  "packetSize": 128
 },
 "hasBranchVersionedData": false,
 "mapUnits": {
  "uwkid": 9003
 },
 "maxExportTilesCount": 100000,
 "referenceScale": 0,
 "supportsSpatialFilter": true,
 "supportedQueryFormats": "JSON, geoJSON, PBF",
 "datumTransformations": [
  {
   "geoTransforms": [
    {
     "latestWkid": 108363,
     "transformForward": true,
     "wkid": 108363,
     "name": "WGS_1984_(ITRF08)_To_NAD_1983_2011"
    }
   ]
  },
  {
   "geoTransforms": [
    {
     "latestWkid": 108363,
     "transformForward": false,
     "wkid": 108363,
     "name": "WGS_1984_(ITRF08)_To_NAD_1983_2011"
    }
   ]
  }
 ],
 "initialExtent": {
  "ymin": 1849242.5400424784,
  "xmin": 6292147.5018851887,
  "ymax": 1939621.4558824783,
  "xmax": 6484955.8556771893,
  "spatialReference": {
   "falseM": -100000,
   "xyTolerance": 0.0032808333333333331,
   "mUnits": 10000,
   "zUnits": 3048.00609601219185,
   "latestWkid": 6426,
   "zTolerance": 0.001,
   "wkid": 103008,
   "xyUnits": 3048.00609601219276,
   "mTolerance": 0.001,
   "falseX": -118608900,
   "falseY": -91259500,
   "falseZ": -100000
  }
 },
 "serviceDescription": "",
 "copyrightText": "",
 "supportsTimeRelation": true
}
