{
 "documentInfo": {
  "Category": "",
  "Keywords": "slope,relief,percent slope",
  "Version": "3.4.0",
  "Comments": "",
  "AntialiasingMode": "Fast",
  "Title": "Map1",
  "Author": "",
  "TextAntialiasingMode": "Force",
  "Subject": ""
 },
 "maxImageWidth": 4096,
 "wmtsScaleFactor": 0.00091863333333344881,
 "maxRecordCount": 2000,
 "tileInfo": {
  "lods": [
   {
    "level": 0,
    "scale": 1126533601.974967,
    "resolution": 977891.79592687776
   },
   {
    "level": 1,
    "scale": 563266800.9874835,
    "resolution": 488945.89796343888
   },
   {
    "level": 2,
    "scale": 281633400.49374175,
    "resolution": 244472.94898171944
   },
   {
    "level": 3,
    "scale": 140816700.24687088,
    "resolution": 122236.47449085972
   },
   {
    "level": 4,
    "scale": 70408350.123435438,
    "resolution": 61118.23724542986
   },
   {
    "level": 5,
    "scale": 35204175.061717719,
    "resolution": 30559.11862271493
   },
   {
    "level": 6,
    "scale": 17602087.530858859,
    "resolution": 15279.559311357465
   },
   {
    "level": 7,
    "scale": 8801043.7654294297,
    "resolution": 7639.7796556787325
   },
   {
    "level": 8,
    "scale": 4400521.8827147149,
    "resolution": 3819.8898278393663
   },
   {
    "level": 9,
    "scale": 2200260.9413573574,
    "resolution": 1909.9449139196831
   },
   {
    "level": 10,
    "scale": 1100130.4706786787,
    "resolution": 954.97245695984157
   },
   {
    "level": 11,
    "scale": 550065.23533933936,
    "resolution": 477.48622847992078
   },
   {
    "level": 12,
    "scale": 275032.61766966968,
    "resolution": 238.74311423996039
   },
   {
    "level": 13,
    "scale": 137516.30883483484,
    "resolution": 119.3715571199802
   },
   {
    "level": 14,
    "scale": 68758.15441741742,
    "resolution": 59.685778559990098
   },
   {
    "level": 15,
    "scale": 34379.07720870871,
    "resolution": 29.842889279995049
   },
   {
    "level": 16,
    "scale": 17189.538604354355,
    "resolution": 14.921444639997524
   },
   {
    "level": 17,
    "scale": 8594.7693021771775,
    "resolution": 7.4607223199987622
   },
   {
    "level": 18,
    "scale": 4297.3846510885887,
    "resolution": 3.7303611599993811
   }
  ],
  "origin": {
   "x": -118608483.2119737,
   "y": 106192833.00464755
  },
  "format": "Mixed",
  "compressionQuality": 75,
  "rows": 256,
  "dpi": 96,
  "spatialReference": {
   "falseM": -100000,
   "xyTolerance": 0.0032808333333333331,
   "mUnits": 10000,
   "zUnits": 10000,
   "latestWkid": 6426,
   "zTolerance": 0.001,
   "wkid": 103008,
   "xyUnits": 3048.00609601219276,
   "mTolerance": 0.001,
   "falseX": -118608900,
   "falseY": -91259500,
   "falseZ": -100000
  },
  "cols": 256
 },
 "description": "",
 "datesInUnknownTimezone": false,
 "supportsQueryDomains": true,
 "units": "esriFeet",
 "maxSelectionCount": 2000,
 "supportedImageFormatTypes": "PNG32,PNG24,PNG,JPG,DIB,TIFF,EMF,PS,PDF,GIF,SVG,SVGZ,BMP",
 "supportsClipping": true,
 "exportTilesAllowed": true,
 "maxImageHeight": 4096,
 "tables": [],
 "hasVersionedData": false,
 "supportsDatumTransformation": true,
 "cimVersion": "3.7.0",
 "supportsQueryDataElements": true,
 "layers": [
  {
   "subLayerIds": null,
   "maxScale": 0,
   "name": "Slope20ft_2014",
   "defaultVisibility": true,
   "id": 0,
   "minScale": 0,
   "supportsDynamicLegends": true,
   "type": "Raster Layer",
   "parentLayerId": -1
  }
 ],
 "mapName": "Slopes20ft_2014",
 "minScale": 1126533601.974967,
 "archivingInfo": {
  "supportsHistoricMoment": false
 },
 "spatialReference": {
  "falseM": -100000,
  "xyTolerance": 0.0032808333333333331,
  "mUnits": 10000,
  "zUnits": 10000,
  "latestWkid": 6426,
  "zTolerance": 0.001,
  "wkid": 103008,
  "xyUnits": 3048.00609601219276,
  "mTolerance": 0.001,
  "falseX": -118608900,
  "falseY": -91259500,
  "falseZ": -100000
 },
 "tileImageInfo": {
  "bandCount": 1,
  "lercError": 0,
  "format": "Mixed",
  "compressionQuality": 75
 },
 "fullExtent": {
  "ymin": 1761199.9999311417,
  "xmin": 6150079.9998755008,
  "ymax": 2129999.9999311417,
  "xmax": 6614999.9998755008,
  "spatialReference": {
   "falseM": -100000,
   "xyTolerance": 0.0032808333333333331,
   "mUnits": 10000,
   "zUnits": 10000,
   "latestWkid": 6426,
   "zTolerance": 0.001,
   "wkid": 103008,
   "xyUnits": 3048.00609601219276,
   "mTolerance": 0.001,
   "falseX": -118608900,
   "falseY": -91259500,
   "falseZ": -100000
  }
 },
 "supportedExtensions": "",
 "serviceItemId": "559535aa53464c52b37432c18249f32f",
 "capabilities": "Map,Data",
 "supportsDynamicLayers": true,
 "maxScale": 4297.3846510885887,
 "singleFusedMapCache": true,
 "currentVersion": 12.1,
 "storageInfo": {
  "storageFormat": "esriMapCacheStorageModeCompactV2",
  "packetSize": 128
 },
 "hasBranchVersionedData": false,
 "mapUnits": {
  "uwkid": 9003
 },
 "maxExportTilesCount": 100000,
 "referenceScale": 0,
 "supportsSpatialFilter": true,
 "supportedQueryFormats": "JSON, geoJSON, PBF",
 "datumTransformations": [
  {
   "geoTransforms": [
    {
     "latestWkid": 108363,
     "transformForward": true,
     "wkid": 108363,
     "name": "WGS_1984_(ITRF08)_To_NAD_1983_2011"
    }
   ]
  },
  {
   "geoTransforms": [
    {
     "latestWkid": 108363,
     "transformForward": false,
     "wkid": 108363,
     "name": "WGS_1984_(ITRF08)_To_NAD_1983_2011"
    }
   ]
  }
 ],
 "initialExtent": {
  "ymin": 1849242.540042486,
  "xmin": 6292147.5018851915,
  "ymax": 1939621.455882486,
  "xmax": 6484955.8556771921,
  "spatialReference": {
   "falseM": -100000,
   "xyTolerance": 0.0032808333333333331,
   "mUnits": 10000,
   "zUnits": 10000,
   "latestWkid": 6426,
   "zTolerance": 0.001,
   "wkid": 103008,
   "xyUnits": 3048.00609601219276,
   "mTolerance": 0.001,
   "falseX": -118608900,
   "falseY": -91259500,
   "falseZ": -100000
  }
 },
 "serviceDescription": "",
 "copyrightText": "",
 "supportsTimeRelation": true
}
