View In:
ArcGIS JavaScript
ArcGIS Online Map Viewer
ArcGIS Earth
ArcGIS Pro
Service Description: <div style='text-align:Left;'><div><div><p><span>Basemap created by SanGIS using data from City of San Diego, County of San Diego, SANDAG and SanGIS</span></p></div></div></div>
Map Name: Basemap
Legend
All Layers and Tables
Layers:
Description: Basemap created by SanGIS using data from City of San Diego, County of San Diego, SANDAG and SanGIS
Service Item Id: 6455425e4a7c4e73be45d192504b6194
Copyright Text: SanGIS
Spatial Reference:
102100
(3857)
Single Fused Map Cache: true
Tile Info:
- Height: 256.0
- Width: 256.0
- DPI: 96.0
-
Levels of Detail: 19
-
Level ID: 0
[ Start Tile, End Tile ]
- Resolution: 78271.516963999937
- Scale: 295828763.79577702
-
Level ID: 1
[ Start Tile, End Tile ]
- Resolution: 39135.758482000092
- Scale: 147914381.89788899
-
Level ID: 2
[ Start Tile, End Tile ]
- Resolution: 19567.879240999919
- Scale: 73957190.948944002
-
Level ID: 3
[ Start Tile, End Tile ]
- Resolution: 9783.9396204999593
- Scale: 36978595.474472001
-
Level ID: 4
[ Start Tile, End Tile ]
- Resolution: 4891.9698102499797
- Scale: 18489297.737236001
-
Level ID: 5
[ Start Tile, End Tile ]
- Resolution: 2445.9849051249898
- Scale: 9244648.8686180003
-
Level ID: 6
[ Start Tile, End Tile ]
- Resolution: 1222.9924525624949
- Scale: 4622324.4343090001
-
Level ID: 7
[ Start Tile, End Tile ]
- Resolution: 611.49622628137968
- Scale: 2311162.2171550002
-
Level ID: 9
[ Start Tile, End Tile ]
- Resolution: 152.87405657041106
- Scale: 577790.55428899999
-
Level ID: 10
[ Start Tile, End Tile ]
- Resolution: 76.437028285073239
- Scale: 288895.27714399999
-
Level ID: 12
[ Start Tile, End Tile ]
- Resolution: 19.10925707126831
- Scale: 72223.819285999998
-
Level ID: 13
[ Start Tile, End Tile ]
- Resolution: 9.5546285356341549
- Scale: 36111.909642999999
-
Level ID: 15
[ Start Tile, End Tile ]
- Resolution: 2.3886571339746849
- Scale: 9027.9774109999998
-
Level ID: 16
[ Start Tile, End Tile ]
- Resolution: 1.1943285668550503
- Scale: 4513.9887049999998
-
Level ID: 18
[ Start Tile, End Tile ]
- Resolution: 0.29858214164761665
- Scale: 1128.4971760000001
- Format: PNG
- Compression Quality: 0.0
- Origin: X: -2.0037508342787E7
Y: 2.0037508342787E7
- Spatial Reference: 102100
(3857)
Storage Info:
- Storage Format: esriMapCacheStorageModeCompactV2
- Packet Size: 128
Initial Extent:
XMin: -1.3178251296259124E7
YMin: 3835539.5559094516
XMax: -1.2859890529545423E7
YMax: 3959476.1886990224
Spatial Reference: 102100
Full Extent:
XMin: -1.311901163800182E7
YMin: 3788662.126901218
XMax: -1.2899459948898442E7
YMax: 4024271.964076398
Spatial Reference: 102100
Units: esriMeters
Supported Image Format Types: PNG32,PNG24,PNG,JPG,DIB,TIFF,EMF,PS,PDF,GIF,SVG,SVGZ,BMP
Document Info:
Title: Map
Author:
Comments: Basemap created by SanGIS using data from City of San Diego, County of San Diego, SANDAG and SanGIS
Subject: Basemap created by SanGIS using data from City of San Diego, County of San Diego, SANDAG and SanGIS
Category:
Keywords: San Diego County,Basemap
AntialiasingMode: Fast
TextAntialiasingMode: Force
Supports Dynamic Layers: false
Resampling: false
MaxRecordCount: 1000
MaxSelectionCount: 2000
MaxImageHeight: 4096
MaxImageWidth: 4096
Supported Query Formats: JSON, geoJSON, PBF
Supports Query Data Elements: true
Min Scale: 591657527.591555
Max Scale: 1128.4971760000001
Min LOD: 0
Max LOD: 18
Supports Datum Transformation: true
Child Resources:
Info
Supported Operations:
Export Map
QueryLegends
QueryDomains
Find
EstimateExportTilesSize
ExportTiles
Return Updates