View In:
ArcGIS JavaScript
ArcGIS Online Map Viewer
ArcGIS Earth
Service Description: This raster dataset shows hillshade relief for San Diego County to be used for cartographic purposes.
Pixels are 2.5ft x 2.5 ft.
This hillshade layer was created from a Merged Digital Elevation Model (DEM) data derived from Quality Level 2 LiDAR (USGS Base Specification) LiDAR acquired through the San Diego regional partnership acquisition projects in 2014 and 2017, and the FEMA acquisition project in 2015. Class 2 (ground) LiDAR points in conjunction with the hydro breaklines were used to create 2.5-foot hydro-flattened raster DEMs from which contour lines were generated.
Geographic Extent:
San Diego County in southwestern California, covering approximately 4,475 total square miles.
This layer is not suitable for analysis purposes.
Name: Public/Hillshade_2017
Description: This raster dataset shows hillshade relief for San Diego County to be used for cartographic purposes.
Pixels are 2.5ft x 2.5 ft.
This hillshade layer was created from a Merged Digital Elevation Model (DEM) data derived from Quality Level 2 LiDAR (USGS Base Specification) LiDAR acquired through the San Diego regional partnership acquisition projects in 2014 and 2017, and the FEMA acquisition project in 2015. Class 2 (ground) LiDAR points in conjunction with the hydro breaklines were used to create 2.5-foot hydro-flattened raster DEMs from which contour lines were generated.
Geographic Extent:
San Diego County in southwestern California, covering approximately 4,475 total square miles.
This layer is not suitable for analysis purposes.
Single Fused Map Cache: false
Extent:
XMin: 6150079.999875501
YMin: 1761209.9999311417
XMax: 6614999.999875501
YMax: 2129999.9999311417
Spatial Reference: 103008
(6426)
VCSWkid(105703)
LatestVCSWkid(6360)
Initial Extent:
XMin: 6150079.999875501
YMin: 1761209.9999311417
XMax: 6614999.999875501
YMax: 2129999.9999311417
Spatial Reference: 103008
(6426)
VCSWkid(105703)
LatestVCSWkid(6360)
Full Extent:
XMin: 6150079.999875501
YMin: 1761209.9999311417
XMax: 6614999.999875501
YMax: 2129999.9999311417
Spatial Reference: 103008
(6426)
VCSWkid(105703)
LatestVCSWkid(6360)
Pixel Size X: 2.5
Pixel Size Y: 2.5
Band Count: 1
Pixel Type: U8
RasterFunction Infos: {"rasterFunctionInfos": [{
"help": "",
"name": "None",
"description": ""
}]}
Mensuration Capabilities: Basic
Inspection Capabilities:
Has Histograms: true
Has Colormap: false
Has Multi Dimensions : false
Rendering Rule:
Min Scale: 0
Max Scale: 0
Resampling: false
Copyright Text: SANDAG, FEMA, County of San Diego, SanGIS
Service Data Type: esriImageServiceDataTypeGeneric
Min Values: 0
Max Values: 254
Mean Values: 169.42613047280369
Standard Deviation Values: 43.201557114650491
Object ID Field:
Fields:
None
Default Mosaic Method: Center
Allowed Mosaic Methods:
SortField:
SortValue: N/A
Mosaic Operator: First
Default Compression Quality: 75
Default Resampling Method: Bilinear
Max Record Count: null
Max Image Height: 4100
Max Image Width: 15000
Max Download Image Count: null
Max Mosaic Image Count: null
Allow Raster Function: true
Allow Copy: true
Allow Analysis: true
Allow Compute TiePoints: false
Supports Statistics: false
Supports Advanced Queries: false
Use StandardizedQueries: false
Raster Type Infos:
Name: Raster Dataset
Description: Supports all ArcGIS Raster Datasets
Help:
Has Raster Attribute Table: true
Edit Fields Info: N/A
Ownership Based AccessControl For Rasters: N/A
Child Resources:
Info
Raster Attribute Table
Histograms
Statistics
Key Properties
Legend
Raster Function Infos
Supported Operations:
Export Image
Identify
Measure
Compute Histograms
Compute Statistics Histograms
Get Samples
Compute Class Statistics
Query Boundary
Compute Pixel Location
Compute Angles
Validate
Project