View In:
ArcGIS JavaScript
ArcGIS Online Map Viewer
ArcGIS Earth
ArcGIS Pro
Service Description:
Map Name: Slopes20ft_2014
Legend
All Layers and Tables
Dynamic Legend
Dynamic All Layers
Layers:
Description:
Service Item Id: 559535aa53464c52b37432c18249f32f
Copyright Text:
Spatial Reference:
103008
(6426)
Single Fused Map Cache: true
Tile Info:
- Height: 256.0
- Width: 256.0
- DPI: 96.0
-
Levels of Detail: 19
-
Level ID: 0
[ Start Tile, End Tile ]
- Resolution: 977891.79592687776
- Scale: 1126533601.974967
-
Level ID: 1
[ Start Tile, End Tile ]
- Resolution: 488945.89796343888
- Scale: 563266800.9874835
-
Level ID: 2
[ Start Tile, End Tile ]
- Resolution: 244472.94898171944
- Scale: 281633400.49374175
-
Level ID: 3
[ Start Tile, End Tile ]
- Resolution: 122236.47449085972
- Scale: 140816700.24687088
-
Level ID: 4
[ Start Tile, End Tile ]
- Resolution: 61118.23724542986
- Scale: 70408350.123435438
-
Level ID: 5
[ Start Tile, End Tile ]
- Resolution: 30559.11862271493
- Scale: 35204175.061717719
-
Level ID: 6
[ Start Tile, End Tile ]
- Resolution: 15279.559311357465
- Scale: 17602087.530858859
-
Level ID: 7
[ Start Tile, End Tile ]
- Resolution: 7639.7796556787325
- Scale: 8801043.7654294297
-
Level ID: 8
[ Start Tile, End Tile ]
- Resolution: 3819.8898278393663
- Scale: 4400521.8827147149
-
Level ID: 9
[ Start Tile, End Tile ]
- Resolution: 1909.9449139196831
- Scale: 2200260.9413573574
-
Level ID: 10
[ Start Tile, End Tile ]
- Resolution: 954.97245695984157
- Scale: 1100130.4706786787
-
Level ID: 11
[ Start Tile, End Tile ]
- Resolution: 477.48622847992078
- Scale: 550065.23533933936
-
Level ID: 12
[ Start Tile, End Tile ]
- Resolution: 238.74311423996039
- Scale: 275032.61766966968
-
Level ID: 13
[ Start Tile, End Tile ]
- Resolution: 119.3715571199802
- Scale: 137516.30883483484
-
Level ID: 14
[ Start Tile, End Tile ]
- Resolution: 59.685778559990098
- Scale: 68758.15441741742
-
Level ID: 15
[ Start Tile, End Tile ]
- Resolution: 29.842889279995049
- Scale: 34379.07720870871
-
Level ID: 16
[ Start Tile, End Tile ]
- Resolution: 14.921444639997524
- Scale: 17189.538604354355
-
Level ID: 17
[ Start Tile, End Tile ]
- Resolution: 7.4607223199987622
- Scale: 8594.7693021771775
-
Level ID: 18
[ Start Tile, End Tile ]
- Resolution: 3.7303611599993811
- Scale: 4297.3846510885887
- Format: Mixed
- Compression Quality: 75.0
- Origin: X: -1.186084832119737E8
Y: 1.0619283300464755E8
- Spatial Reference: 103008
(6426)
Storage Info:
- Storage Format: esriMapCacheStorageModeCompactV2
- Packet Size: 128
Initial Extent:
XMin: 6292147.501885192
YMin: 1849242.540042486
XMax: 6484955.855677192
YMax: 1939621.455882486
Spatial Reference: 103008
(6426)
Full Extent:
XMin: 6150079.999875501
YMin: 1761199.9999311417
XMax: 6614999.999875501
YMax: 2129999.9999311417
Spatial Reference: 103008
(6426)
Units: esriFeet
Supported Image Format Types: PNG32,PNG24,PNG,JPG,DIB,TIFF,EMF,PS,PDF,GIF,SVG,SVGZ,BMP
Document Info:
Title: Map1
Author:
Comments:
Subject:
Category:
Keywords: slope,relief,percent slope
AntialiasingMode: Fast
TextAntialiasingMode: Force
Supports Dynamic Layers: true
MaxRecordCount: 2000
MaxSelectionCount: 2000
MaxImageHeight: 4096
MaxImageWidth: 4096
Supported Query Formats: JSON, geoJSON, PBF
Supports Query Data Elements: true
Min Scale: 1126533601.974967
Max Scale: 4297.3846510885887
Supports Datum Transformation: true
Child Resources:
Info
Dynamic Layer
Supported Operations:
Export Map
QueryLegends
QueryDomains
Find
EstimateExportTilesSize
ExportTiles
Return Updates